BEGIN:VCALENDAR
VERSION:2.0
METHOD:PUBLISH
BEGIN:VEVENT
UID:WILD_APRICOT_EVENT_3770166_SESSION_1
DTSTART:20200319T020000Z
DTEND:20200319T040000Z
SUMMARY:Brisbane Maven Lunch – Mal Walker FAIEA will host the AIEA Advisory Group lunch
LOCATION:Goldfinch Restaurant\, Pullman Hotel\, cnr Ann & Roma Streets\, Brisbane 4000
DESCRIPTION:https://aiea.org.au/event-3770166\n\nAIEA Maven Lunch\n  Mal Walker FAIEA will host an Advisory Group lunch where the future directions of AIEA will be examined and set.\n  The attendees of this periodic meeting are senior members (annual CAIEA and FAIEA) only. The purpose is to examine the workings and offerings of AIEA from a member's perspective and to create policy for the provision of services to the AIEA membership.\n  To achieve an effective working environment\, the attendance will be limited to six bookings.\n  A working paper will be circulated to the attendees prior to the lunch.\n  \n\n  Lunch is a la carte and the cost of the food and drink is subsidised by AIEA: https://www.goldfinchbrisbane.com.au/\n\n  \n\n
DTSTAMP:20200302T055047Z
END:VEVENT
END:VCALENDAR
