BEGIN:VCALENDAR
VERSION:2.0
METHOD:PUBLISH
BEGIN:VEVENT
UID:WILD_APRICOT_EVENT_3756004_SESSION_1
DTSTART:20200320T223000Z
DTEND:20200321T070000Z
SUMMARY:Level-Up Leadership
LOCATION:Gold Coast
DESCRIPTION:https://aiea.org.au/event-3756004\n\n\n  Distinguished business professionals share their expertise and exclusive strategies in a full one-day format.\n  You will gain an understanding of the thought processes professionals apply\, equipping you with the tools\, insights and confidence to make informed business decisions and help ensure your organisation delivers its desired outcomes.   Adding value to this day\, our leading professionals will also facilitate a masterclass on communicating with precision and purpose.\n  A combined day of problem-solving\, operational excellence and communication strategies\, providing the perfect platform for a successful 2020 and beyond.\n  Event Format\n      * 1 day of content. No multi-stream format\, so you have access to all content on stage.\n\n\n        * Keynotes & Panel Discussions on-stage.\n\n\n        * Workshops and Networking Sessions in smaller\, intimate settings.\n\nDescription\n      * A hands-on workshop where you may learn some techniques & insights to improve your communication skills and relationships. \n\n        *  How to “think” differently\, to "speak" differently - reaching a wider audience. \n\n        * Uncovering the hidden messages\, in what you are really saying.\n\n        * Values - what are these and how they impact your behaviours.\n\n        * The secret to business problem-solving success.\n\n  Secure your seats now for this not-to-be-missed event. Tickets are strictly limited and will sell out.\n  Transformational Success Creator : Leading Problem-Solving & Disaster Avoidance Expert\, Australia's first Networkpreneur.\n  Refund Policy: Please contact info@aiea.org.au for information on transfer of tickets no later than 24 hours prior to event commencement. Refunds are not offered.\n\n
DTSTAMP:20200302T055057Z
END:VEVENT
END:VCALENDAR
