BEGIN:VCALENDAR
VERSION:2.0
METHOD:PUBLISH
BEGIN:VEVENT
UID:WILD_APRICOT_EVENT_3706639_SESSION_1
DTSTART:20200303T000000Z
DTEND:20200303T020000Z
SUMMARY:Brisbane Networking - Sigrid de Kaste FAIEA will present ''What Marketing is needed by Business Coaches & Management Consultants in 2020?'
LOCATION:Level 7 Waterfront Place\, 1 Eagle Street\, Brisbane 4000
DESCRIPTION:https://aiea.org.au/event-3706639\n\n\n\n    \n  Are you up to date with the latest changes in marketing? Do techniques change or only tools and platforms? Do service offers require a different approach to marketing your business?\n  As Marketing Specialist in her consultancy Stickybeak Marketing\, Sigrid de Kaste focuses on a complete\, cohesive and consistent approach to marketing. “Bits n’ Pieces\, or Shiny Object Syndrome\, won’t bring you Results”\, she says.\n  This session is specifically designed for Professional Services Marketing\n  Discover the Top Marketing Techniques you want to Consider Implementing in 2020!\n  At this event Sigrid will share:\n      * Why Specialization is the most Powerful Technique in the Services Industry\n\n        * The best ‘Know – Like – Trust’ tool you will ever find!\n\n        * What a Signature Tool might look like for you\n\n        * The fundamental components of generating ‘Leads’\n\n        * How does Search Engine Optimization work for you?\n\n  Take away a 10-Step Approach to your Marketing in 2020\n  Proudly Sponsored by HopgoodGanim Lawyers\n  \n\n
DTSTAMP:20200302T054954Z
END:VEVENT
END:VCALENDAR
