BEGIN:VCALENDAR
VERSION:2.0
METHOD:PUBLISH
BEGIN:VEVENT
UID:WILD_APRICOT_EVENT_3699502_SESSION_1
DTSTART:20200316T010000Z
DTEND:20200316T033000Z
SUMMARY:Melbourne How to Create a Problem-Solving Culture | Lunch Learn Network
LOCATION:TO BE ADVISED (MELBOURNE CBD)
DESCRIPTION:https://aiea.org.au/event-3699502\n\n   The problem is how the future unfolds.\n\n    The solution is guidance from the expert\, Julie Dimmick\,  in the world of problem-solving solutions and cultures. \n    This is the one event you need to attend to kick start your year.\n    We all want to have a positive impact with our careers\, and so you may set out to discover where your efforts would be most effective. \n    Our analysis suggests that choosing the right problem could increase your impact over 100 times\, and so be the most important decision you ever make.\n    \n\n    Julie Dimmick returns to Melbourne with a fresh look and a lot of optimism for the future.\n    \nAt this event:\n           ☞ Understand the desired behaviours of a problem-solving culture.\n            ☞ Learn some key personal attributes required to ensure your problem-solving success.\n            ☞ Take home tools to effectively help you remember your learnings\n         Bookings essential | Seats are limited.\n    \n    TESTIMONIALS FROM PREVIOUS ATTENDEES.\n            \n\n   \n\n
DTSTAMP:20200302T055032Z
END:VEVENT
END:VCALENDAR
